BEGIN:VCALENDAR
VERSION:2.0
PRODID:icalendar-ruby
CALSCALE:GREGORIAN
METHOD:PUBLISH
BEGIN:VEVENT
DTSTAMP:20260424T145607Z
UID:184-1729516@transformtbay.com
DTSTART:20260703T110000Z
DTEND:20260703T120000Z
CLASS:PUBLIC
CREATED:20260424T092711
DESCRIPTION:Prayer Meeting every Friday at 7:00 AM in person at Transformat
 ion Church (Upstairs)
LAST-MODIFIED:20260424T092711
LOCATION:Transformation Church
SUMMARY:Prayer Group
URL;VALUE=URI:https://transformtbay.com/events/prayer-group/2026-07-03
END:VEVENT
END:VCALENDAR
